BEGIN:VCALENDAR
VERSION:2.0
PRODID:-//Squarespace Inc/Squarespace 6//v6//EN
BEGIN:VEVENT
UID:5db6547b8ccf9d12e02b412b@squarespace.com
DTSTAMP:20191101T042352Z
DTSTART:20090919T023000Z
DTEND:20090919T033000Z
SUMMARY:Treat 'em Green\, Keep 'em Keen @ Alice Desert Festival\, Witchetty
 's\, Araluen Art Centre\, Alice Springs
GEO:-23.700913;133.868422
LOCATION:Araluen Art Centre\, Larapinta Drive\, Ciccone\, NT\, 0870\, Austr
 alia
END:VEVENT
END:VCALENDAR
