BEGIN:VCALENDAR
VERSION:2.0
PRODID:-//Squarespace Inc/Squarespace 6//v6//EN
BEGIN:VEVENT
UID:5dba1a8565bf94667d451c27@squarespace.com
DTSTAMP:20191101T013502Z
DTSTART:20141024T233000Z
DTEND:20141025T023000Z
SUMMARY:Cliff Rescue &amp\; Hypocrite (Dan the Underdog) @ Australian Cinem
 atographers Awards NT
GEO:-12.460752;130.836444
LOCATION:Darwin Entertainment Centre\, 93 Mitchell Street\, Darwin City\, A
 ustralia
END:VEVENT
END:VCALENDAR
