BEGIN:VCALENDAR
VERSION:2.0
PRODID:-//Squarespace Inc/Squarespace 6//v6//EN
BEGIN:VEVENT
UID:5dba8da467dcb450208d7eb6@squarespace.com
DTSTAMP:20191031T213438Z
DTSTART:20161030T214000Z
DTEND:20161030T234000Z
SUMMARY:Kangaroo Island: Life on the Edge @ Wildlife Film Festival Rotterda
 m\, Netherlands
END:VEVENT
END:VCALENDAR
