BEGIN:VCALENDAR
VERSION:2.0
PRODID:-//Squarespace Inc/Squarespace 6//v6//EN
BEGIN:VEVENT
UID:5dbb515dd5a8ca28d34433c4@squarespace.com
DTSTAMP:20191101T013559Z
DTSTART:20160709T230000Z
DTEND:20160710T010000Z
SUMMARY:Kangaroo Island: Life on the Edge @ Jugglers Art Space
END:VEVENT
END:VCALENDAR
