BEGIN:VCALENDAR
VERSION:2.0
PRODID:-//Squarespace Inc/Squarespace 6//v6//EN
BEGIN:VEVENT
UID:5db64adc820b8d290248fe0d@squarespace.com
DTSTAMP:20191101T013437Z
DTSTART:20160917T180000Z
DTEND:20160917T210000Z
SUMMARY:Kangaroo Island: Life on the Edge @ Green Screen International Wild
 life Film Festival\, Eckernförde\, Germany.
GEO:54.470481;9.834107
LOCATION:Das Haus\, 28 Reeperbahn\, Eckernförde\, SH\, 24340\, Germany
END:VEVENT
END:VCALENDAR
