BEGIN:VCALENDAR
VERSION:2.0
PRODID:-//Squarespace Inc/Squarespace 6//v6//EN
BEGIN:VEVENT
UID:5db63fdc7161a11f186f2175@squarespace.com
DTSTAMP:20191101T013312Z
DTSTART:20171020T160000Z
DTEND:20171020T180000Z
SUMMARY:Kangaroo Island: Life on the Edge @ Wildlife Conservation Film Fest
 ival\, New York
GEO:40.733876;-73.993502
LOCATION:cinema village theater\, 22 East 12th Street\, New York\, NY\, 100
 03\, United States
END:VEVENT
END:VCALENDAR
