BEGIN:VCALENDAR
VERSION:2.0
PRODID:-//Squarespace Inc/Squarespace 6//v6//EN
BEGIN:VEVENT
UID:5dbb546c6d7ae460d5a2e5fc@squarespace.com
DTSTAMP:20191101T013417Z
DTSTART:20170729T220000Z
DTEND:20171220T230000Z
SUMMARY:My Brother's Keeper @ Stories from the Windmill Exhibition\, QLD St
 ate Archives
END:VEVENT
END:VCALENDAR
