BEGIN:VCALENDAR
VERSION:2.0
PRODID:-//Squarespace Inc/Squarespace 6//v6//EN
BEGIN:VEVENT
UID:5dbb8780e3e0fc792abf6566@squarespace.com
DTSTAMP:20191101T014152Z
DTSTART:20190109T220000Z
DTEND:20190110T020000Z
SUMMARY:Kangaroo Island: Life on the Edge @ Wildlife Carnival\, Kangaroo Is
 land
GEO:-35.692751;137.519363
LOCATION:Islander Estate Vineyards\, 78 Gum Creek Road\, Cygnet River\, SA\
 , 5223\, Australia
END:VEVENT
END:VCALENDAR
