BEGIN:VCALENDAR
VERSION:2.0
PRODID:-//Squarespace Inc/Squarespace 6//v6//EN
BEGIN:VEVENT
UID:5dbb70ccad1b0b7aa1563b9b@squarespace.com
DTSTAMP:20191101T013342Z
DTSTART:20170808T130000Z
DTEND:20171112T220000Z
SUMMARY:Bush Tucker Cloak @ Tastes like Sunshine Exhibition\, Museum of Bri
 sbane
END:VEVENT
END:VCALENDAR
