BEGIN:VCALENDAR
VERSION:2.0
PRODID:-//Squarespace Inc/Squarespace 6//v6//EN
BEGIN:VEVENT
UID:5dbb858ffcf3af1b4906d428@squarespace.com
DTSTAMP:20191101T013058Z
DTSTART:20180415T163000Z
DTEND:20180415T173000Z
SUMMARY:Kangaroo Island: Life on the Edge @ Mercury Cinema &amp\; SASA Awar
 ds
GEO:-34.922444;138.592912
LOCATION:Mercury Cinema\, 13 Morphett Street\, Adelaide\, SA\, 5000\, Austr
 alia
END:VEVENT
END:VCALENDAR
