BEGIN:VCALENDAR
VERSION:2.0
PRODID:-//Squarespace Inc/Squarespace 6//v6//EN
BEGIN:VEVENT
UID:5dbb7419f287ae746f85f281@squarespace.com
DTSTAMP:20191101T042254Z
DTSTART:20180209T220000Z
DTEND:20180211T020000Z
SUMMARY:Untitled - A portrait of Desert Fire @ Fleurieu Film Festival\, Sou
 th Australia
END:VEVENT
END:VCALENDAR
