BEGIN:VCALENDAR
VERSION:2.0
PRODID:-//Squarespace Inc/Squarespace 6//v6//EN
BEGIN:VEVENT
UID:5dbbac9dfcf3af1b4908cf47@squarespace.com
DTSTAMP:20191101T042200Z
DTSTART:20090911T210000Z
DTEND:20090912T030000Z
SUMMARY:Treat 'em Green\, Keep 'em Keen @ the opening of the 2009 Alice Des
 ert Festival
END:VEVENT
END:VCALENDAR
