BEGIN:VCALENDAR
VERSION:2.0
PRODID:-//Squarespace Inc/Squarespace 6//v6//EN
BEGIN:VEVENT
UID:5deb28005704156dcbd8a311@squarespace.com
DTSTAMP:20200113T064829Z
DTSTART:20200117T223000Z
DTEND:20200119T143000Z
SUMMARY:Art/Science Workshops @ Kangaroo Island
GEO:-35.775243;137.214242
LOCATION:Kangaroo Island\, Australia
END:VEVENT
END:VCALENDAR
