BEGIN:VCALENDAR
VERSION:2.0
PRODID:-//Squarespace Inc/Squarespace 6//v6//EN
BEGIN:VEVENT
UID:5dbb94c11286c60ec12bda11@squarespace.com
DTSTAMP:20191101T023212Z
DTSTART:20190726T130000Z
DTEND:20190805T020000Z
SUMMARY:Dream Palisade @ Strand Ephemera Sculpture Festival\, Townsville
END:VEVENT
END:VCALENDAR
