BEGIN:VCALENDAR
VERSION:2.0
PRODID:-//Squarespace Inc/Squarespace 6//v6//EN
BEGIN:VEVENT
UID:5deb768e4d5f2571c8b3b22b@squarespace.com
DTSTAMP:20191213T000307Z
DTSTART:20200116T073000Z
DTEND:20200116T093000Z
SUMMARY:Art/Science Community Forum @ The KI Brewery
GEO:-35.660609;137.593245
LOCATION:Kangaroo Island Brewery\, 61 North Coast Road\, Kingscote\, Austra
 lia
END:VEVENT
END:VCALENDAR
