BEGIN:VCALENDAR
VERSION:2.0
PRODID:-//Squarespace Inc/Squarespace 6//v6//EN
BEGIN:VEVENT
UID:5e1c0f474ea7cf33bb7792b9@squarespace.com
DTSTAMP:20200113T065433Z
DTSTART:20200118T010000Z
DTEND:20200118T040000Z
SUMMARY:Art/Science Catch Up @ The KI Brewery
GEO:-35.660609;137.593245
LOCATION:Kangaroo Island Brewery\, 61 North Coast Road\, Kingscote\, Austra
 lia
END:VEVENT
END:VCALENDAR
