BEGIN:VCALENDAR
VERSION:2.0
PRODID:-//Squarespace Inc/Squarespace 6//v6//EN
BEGIN:VEVENT
UID:6025c6acbd55c3038d46a17c@squarespace.com
DTSTAMP:20210212T001010Z
DTSTART:20210312T230000Z
DTEND:20210313T050000Z
SUMMARY:Foodways\, Our ways\, Always: First Nations Urban Food Growing and 
 Food Usage
GEO:-27.442719;153.028073
LOCATION:Northey Street City Farm\, 16 Victoria Street\, Windsor\, QLD 4030
 \, Australia
END:VEVENT
END:VCALENDAR
